BEGIN:VCALENDAR
VERSION:2.0
PRODID:-//hacksw/handcal//NONSGML v1.0//EN
BEGIN:VEVENT
SUMMARY:Seances de Tir Controle et d'initiation
UID:cd5f9c5b-e737-469c-81f6-a25efa5d58c1
DTSTART:20260425T080000Z
DTEND:20260425T100000Z
LOCATION:Localisation   
CATEGORIES:Sportif
STATUS:
URL;VALUE=URI:https://asct-tir.sportsregions.fr/evenements/2026/04/25/seances-de-tir-controle-et-dinitiation-2439169
END:VEVENT
END:VCALENDAR
