BEGIN:VCALENDAR
VERSION:2.0
PRODID:-//hacksw/handcal//NONSGML v1.0//EN
BEGIN:VEVENT
SUMMARY:Seances de Tir Controle et d'initiation
UID:82e58d62-89ec-454e-96ec-7f66cf33c563
DTSTART:20260411T080000Z
DTEND:20260411T100000Z
LOCATION:Localisation   
CATEGORIES:Sportif
STATUS:
URL;VALUE=URI:https://asct-tir.sportsregions.fr/evenements/2026/04/11/seances-de-tir-controle-et-dinitiation-2439168
END:VEVENT
END:VCALENDAR
